Workbook

Sheet Start
A11: Wybór wydziału
A12: WYDZIAŁ EKONOMICZNY
A16: Raport z zapewnienia i doskonalenia jakości kształcenia w r. ak. 2022/2023
A20: Raport przygotowywany jest w ramach corocznej oceny stopnia realizacji polityki jakości oraz celów jakości kształcenia w odniesieniu do prowadzonych kierunków studiów. Raport należy przygotować najpóźniej do końca roku kalendarzowego.
A23: Opracował: | D23: Zweryfikował: | G23: Zatwierdził:
G24: Dziekan Wydziału
A25: Magdalena Mądra-Sawicka | D25: Koordynatorzy kierunkowi | G25: Marcin Ratajczak
A28: Data, Podpis | D28: Data, Podpis | G28: Data, Podpis
A31: W pliku znajdują się następujące arkusze
A33: Instrukcja przeprowadzenia oceny
A35: Katalog Narzędzi Systemu Monitorowania i Doskonalenia Jakości Kształcenia w SGGW
A37: Skuteczność
A39: Ocena sktueczności działania w obszarze poszczególnych kryteriów jakości kształcenia w odniesieniu do prowadzonych kierunków studiów
A41: Dobre praktyki
A43: Wyszczególnione dobre praktyki w ramach prowadzonych kierunków studiów
A45: Raporty dla poszczególnych kierunków studiów

Sheet Instrukcja
B2: Lp. | C2: Wyszczególnienie
B3: 1 | C3: Ocena dokonywana jest co najmniej raz w roku akademickim. W razie potrzeby można ją przeprowadzać częściej, np. raz na semestr.
B4: 2 | C4: Ocena dokonywana jest na postawie kryteriów określonych w dokumencie „Wskaźniki spełnienia standardów jakości kształcenia” opracowanym przez Polską Komisję Akredytacyjną.
B5: 3 | C5: Ocena dokonywana jest osobno dla każdego kierunku studiów, jednak łącznie dla wszystkich prowadzonych poziomów i trybów.
B6: 4 | C6: Ocenę przeprowadza osoba odpowiedzialna za koordynację prac związanych z zapewnieniem i doskonaleniem jakości kształcenia na Wydziale, weryfikuje Rada Programowa powołana dla ocenianego kierunku, zatwierdza Dziekan Wydziału na którym realizowany jest kierunek.
B7: 5 | C7: Po zatwierdzeniu ocena przekazywana jest do Pełnomocnika Rektora ds. Jakości Kształcenia.
B8: 6 | C8: Definicje:
B9: 6a | D9: Dobra praktyka - rozwiązanie, które jest skuteczne (pozwala na osiąganie celów w sferze doskonalenia jakości kształcenia), uniwersalne (pozwala na przenoszenie rozwiązań na inne jednostki szkolnictwa wyższego), etyczne (etyczne oraz odpowiedzialne społecznie) oraz trwałe (powtarzalne, trwale wpływające na uczelnianą rzeczywistość).
E10: Przykład: Studenci są powszechnie angażowani do udziału w działalności naukowej w dyscyplinie, do której przyporządkowany jest kierunek studiów. Uczestniczą oni w projektach naukowych finansowanych ze źródeł zewnętrznych oraz publikacjach wyników badań. Potwierdzeniem aktywności naukowej studentów jest wysoka liczba projektów/grantów i publikacji realizowanych z ich udziałem. Dołączanie studentów do zespołów projektowych ma charakter systemowy i odbywa się na stosunkowo wczesnym etapie studiów (opis procesu na wydziale);
B11: 6b | D11: Działanie – ogół czynności i decyzji podjętych w celu zapewniania i doskonalenia jakości kształcenia. Wyróżniono:
E12: Działania systemowe – realizowane zgodnie z przyjętym planem.
E13: Działania ad hoc - nieprzewidziane planem, podejmowane w związku z zaistniałym zdarzeniem.
E14: Działania korekcyjne – podejmowane w celu wyeliminowania powstałego problemu.
E15: Działania korygujące – podejmowane w celu wyeliminowania przyczyny powstałego problemu.
E16: Działania zapobiegawcze – podejmowane wyeliminowania przyczyn potencjalnego problemu.
E17: Działania doskonalące – podejmowane w celu podniesienia skuteczności przyjętych rozwiązań w ramach systemy jakości kształcenia.
B18: 6c | D18: Skuteczność – stopień realizacji założonych celów. Przyjęto trójstopniową ocenę skuteczności:
E19: Wysoka – założone cele zostały zrealizowane w całości,
E20: Średnia – założone cele zostały zrealizowane co najmniej w połowie,
E21: Niska – założone cele zostały zrealizowane w stopniu mniejszym niż połowa.
B22: 6d | D22: Standard – kryteria oceny określonego obszaru funkcjonowania systemu zapewniania i doskonalenia jakości kształcenia przyjęte w dokumencie PKA „Wskaźniki spełnienia standardów jakości kształcenia”.
B23: 7 | C23: W przypadku stwierdzenia niskiej skuteczności zapewnienia i doskonalenia jakości kształcenia w danych obszarach należy opisać planowane działania zmierzające do jej poprawy.
B24: 8 | C24: Ocenę należy podsumować wnioskami, które powinny być podane do publicznej wiadomości.

Sheet Narzędzia
A1: Lp. | B1: Monitorowany obszar | C1: Opis narzędzia | D1: Miesiąc | E1: Raport
A2: 1 | B2: Polityka i cele jakości kształcenia | C2: Raport corocznej oceny stopnia realizacji polityki jakości oraz celów jakości kształcenia | D2: Grudzień | E2: =_xlfn.CONCAT("RAPORT",A2) -> RAPORT1
A3: 2 | B3: Mierniki Strategii | C3: Raport z oceny mierników Strategii SGGW w odniesieniu do celów strategicznych dedykowanych kształceniu | D3: kwiecień | E3: =_xlfn.CONCAT("RAPORT",A3) -> RAPORT2
A4: 3 | B4: Programy studiów | C4: Raport z okresowego przeglądu programów studiów w zakresie spójności z wymaganiami przepisów prawa, stanu wiedzy oraz rynku pracy | D4: czerwiec | E4: =_xlfn.CONCAT("RAPORT",A4) -> RAPORT3
A5: 4 | B5: Rekrutacja | C5: Raport podsumowujący rekrutację oraz wyniki studentów przyjętych na pierwszy semestr studiów na danym kierunku i poziomie studiów | D5: Październik | E5: =_xlfn.CONCAT("RAPORT",A5) -> RAPORT4
A6: 5 | B6: Zasoby wykorzystywane w procesie kształcenia | C6: Raport z przeglądu i oceny dostępności i jakości zasobów materialnych oraz niematerialnych i prawnych wykorzystywanych na potrzeby procesu dydaktycznego | D6: wrzesień | E6: =_xlfn.CONCAT("RAPORT",A6) -> RAPORT5
A7: 6 | B7: Spójności kształcenia z działalnością naukową | C7: Raport z oceny spójności kształcenia na danym kierunku z działalnością naukową prowadzoną przez nauczycieli akademickich prowadzących zajęcia dydaktyczne na tym kierunku | D7: wrzesień | E7: =_xlfn.CONCAT("RAPORT",A7) -> RAPORT6
A8: 7 | B8: Proces dydaktyczny | C8: Raport z hospitacji zajęć dydaktycznych w celu oceny jakości ich prowadzenia, dokonywane przez powołaną do tego celu komisję | D8: Plan hospitacji styczeń, Raport czerwiec | E8: =_xlfn.CONCAT("RAPORT",A8) -> RAPORT7
A9: 8 | B9: Studencka i doktorancka ocena jakości prowadzenia zajęć | C9: Raport z dobrowolnej oceny przez studentów i doktorantów jakości zajęć dydaktycznych i osób je prowadzących realizowanej po pierwszym i drugim semestrze danego roku akadmeickiego przy wykorzystaniu kwestionariusza zatwierdzanego przez Rektora | D9: luty | E9: =_xlfn.CONCAT("RAPORT",A9) -> RAPORT8
A10: 9 | B10: Opinie studentów i doktorantów na temat prowadzonych zajęć dydaktycznych | C10: Raport z przeglądu komentarzy wystawionych przez studentów i doktorantów w ramach oceny jakości zajęć i prowadzących realizowanej po pierwszym i drugim semestrze danego roku akademickiego przy wykorzystaniu kwestionariusza przez Rektora | D10: luty | E10: =_xlfn.CONCAT("RAPORT",A10) -> RAPORT9
A11: 10 | B11: Praktyki i staże studenckie i doktoranckie | C11: Raport z oceny stopnia osiągania założonych efektów uczenia się w ramach praktyk i staży oraz ich organizacji | D11: lipiec | E11: =_xlfn.CONCAT("RAPORT",A11) -> RAPORT10
A12: 11 | B12: Osiąganie założonych efektów uczenia się | C12: Raport z weryfikacji stopnia osiągania zakładanych efektów uczenia się oraz weryfikacja form i metod dydaktycznych zapisanych w sylabusie przedmiotu | D12: listopad | E12: =_xlfn.CONCAT("RAPORT",A12) -> RAPORT11
A13: 12 | B13: Prace dyplomowe | C13: Raport z oceny jakości prac dyplomowych w zakresie zgodności tematyki z kierunkiem studiów, spełnienia wymagań formalnych, jakości merytorycznej i redakcyjnej | D13: listopad | E13: =_xlfn.CONCAT("RAPORT",A13) -> RAPORT12
... A21: 20 | B21: System jakości kształcenia | C21: Raport z oceny skuteczności i efektywności procedur i narzędzi Systemu zapewniania i doskonalenia jakości kształcenia w SGGW | D21: maj | E21: =_xlfn.CONCAT("RAPORT",A21) -> RAPORT20

Sheet SKUTECZNOŚĆ
C2: Skuteczność
B4: =Start!A12 -> WYDZIAŁ EKONOMICZNY
A7: Lp. | B7: WYDZIAŁ | C7: Skrót | D7: Kierunki studiów | E7: WSKAŹNIK | F7: Kryterium 1. Konstrukcja programu studiów: koncepcja, cele kształcenia i efekty uczenia się | J7: Kryterium 2. Realizacja programu studiów: treści programowe, harmonogram realizacji programu studiów oraz formy i organizacja zajęć, metody kształcenia, praktyki zawodowe, organizacja procesu nauczania i uczenia się | S7: Kryterium 3. Przyjęcie na studia, weryfikacja osiągnięcia przez studentów efektów uczenia się, zaliczanie poszczególnych seme strów i lat oraz dyplomowanie | W7: Kryterium 4. Kompetencje, doświadczenie, kwalifikacje i liczebność kadry prowadzącej kształcenie oraz rozwój i doskonalenie kadry | Z7: Kryterium 5. Infrastruktura i zasoby edukacyjne wykorzystywane w realizacji programu studiów oraz ich doskonalenie | AC7: Kryterium 6. Współpraca z otoczeniem społeczno-gospodarczym w konstruowaniu, realizacji i doskonaleniu programu studiów oraz jej wpływ na rozwój kierunku | AE7: Kryterium 7. Warunki i sposoby podnoszenia stopnia umiędzynarodowienia procesu kształcenia na kierunku | AG7: Kryterium 8. Wsparcie studentów w uczeniu się, rozwoju społecznym, naukowym lub zawodowym i wejściu na rynek pracy oraz rozwó j i doskonalenie form wsparcia | AI7: Kryterium 9. Publiczny dostęp do informacji o programie studiów, warunkach jego realizacji i osiąganych rezultatach | AK7: Kryterium 10. Polityka jakości, projektowanie, zatwierdzanie, monitorowanie, przegląd i doskonalenie programu studiów | AM7: Max | AN7: Suma | AO7: Wskaźnik
F8: 1.1 | G8: 1.2 | H8: 1.2a | I8: 1.2b | J8: 2.1 | K8: 2.1a | L8: 2.2 | M8: 2.2a | N8: 2.3 | O8: 2.4 | P8: 2.4a | Q8: 2.5 | R8: 2.5a | S8: 3.1 | T8: 3.2 | U8: 3.2a | V8: 3.3 | W8: 4.1 | X8: 4.1a | Y8: 4.2 | Z8: 5.1 | AA8: 5.1a | AB8: 5.2 | AC8: 6.1 | AD8: 6.2 | AE8: 7.1 | AF8: 7.2 | AG8: 8.1 | AH8: 8.2 | AI8: 9.1 | AJ8: 9.2 | AK8: 10.1 | AL8: 10.2
A9: 1 | B9: =$B$4 -> WYDZIAŁ EKONOMICZNY | C9: =IFERROR(VLOOKUP(B9,WYDZIAŁY!$A$19:$B$32,2,0),"") -> WE | D9: =Ekonomia!D6:H6 -> ekonomia | E9: =IFERROR(AO9,"") -> 0.86111111 | F9: =IF((ISTEXT(Ekonomia!$F$13)),3,IF((ISTEXT(Ekonomia!$G$13)),2,IF(ISTEXT(Ekonomia!$H$13),1,""))) -> 3 | G9: =IF((ISTEXT(Ekonomia!$F$14)),3,IF((ISTEXT(Ekonomia!$G$14)),2,IF(ISTEXT(Ekonomia!$H$14),1,""))) -> 3 | H9: =IF((ISTEXT(Ekonomia!$F$15)),3,IF((ISTEXT(Ekonomia!$G$15)),2,IF(ISTEXT(Ekonomia!$H$15),1,""))) | I9: =IF((ISTEXT(Ekonomia!$F$16)),3,IF((ISTEXT(Ekonomia!$G$16)),2,IF(ISTEXT(Ekonomia!$H$16),1,""))) | J9: =IF((ISTEXT(Ekonomia!$F$20)),3,IF((ISTEXT(Ekonomia!$G$20)),2,IF(ISTEXT(Ekonomia!$H$20),1,""))) -> 2 | K9: =IF((ISTEXT(Ekonomia!$F$21)),3,IF((ISTEXT(Ekonomia!$G$21)),2,IF(ISTEXT(Ekonomia!$H$21),1,""))) | L9: =IF((ISTEXT(Ekonomia!$F$22)),3,IF((ISTEXT(Ekonomia!$G$22)),2,IF(ISTEXT(Ekonomia!$H$22),1,""))) -> 2 | M9: =IF((ISTEXT(Ekonomia!$F$23)),3,IF((ISTEXT(Ekonomia!$G$23)),2,IF(ISTEXT(Ekonomia!$H$23),1,""))) | N9: =IF((ISTEXT(Ekonomia!$F$24)),3,IF((ISTEXT(Ekonomia!$G$24)),2,IF(ISTEXT(Ekonomia!$H$24),1,""))) -> 3 | O9: =IF((ISTEXT(Ekonomia!$F$25)),3,IF((ISTEXT(Ekonomia!$G$25)),2,IF(ISTEXT(Ekonomia!$H$25),1,""))) -> 3 | P9: =IF((ISTEXT(Ekonomia!$F$26)),3,IF((ISTEXT(Ekonomia!$G$26)),2,IF(ISTEXT(Ekonomia!$H$26),1,""))) | Q9: =IF((ISTEXT(Ekonomia!$F$27)),3,IF((ISTEXT(Ekonomia!$G$27)),2,IF(ISTEXT(Ekonomia!$H$27),1,""))) -> 2 | R9: =IF((ISTEXT(Ekonomia!$F$28)),3,IF((ISTEXT(Ekonomia!$G$28)),2,IF(ISTEXT(Ekonomia!$H$28),1,""))) | S9: =IF((ISTEXT(Ekonomia!$F$32)),3,IF((ISTEXT(Ekonomia!$G$32)),2,IF(ISTEXT(Ekonomia!$H$32),1,""))) -> 3 | T9: =IF((ISTEXT(Ekonomia!$F$33)),3,IF((ISTEXT(Ekonomia!$G$33)),2,IF(ISTEXT(Ekonomia!$H$33),1,""))) -> 3 | U9: =IF((ISTEXT(Ekonomia!$F$34)),3,IF((ISTEXT(Ekonomia!$G$34)),2,IF(ISTEXT(Ekonomia!$H$34),1,""))) | V9: =IF((ISTEXT(Ekonomia!$F$35)),3,IF((ISTEXT(Ekonomia!$G$35)),2,IF(ISTEXT(Ekonomia!$H$35),1,""))) -> 2 | W9: =IF((ISTEXT(Ekonomia!$F$39)),3,IF((ISTEXT(Ekonomia!$G$39)),2,IF(ISTEXT(Ekonomia!$H$39),1,""))) -> 3 | X9: =IF((ISTEXT(Ekonomia!$F$40)),3,IF((ISTEXT(Ekonomia!$G$40)),2,IF(ISTEXT(Ekonomia!$H$40),1,""))) | Y9: =IF((ISTEXT(Ekonomia!$F$41)),3,IF((ISTEXT(Ekonomia!$G$41)),2,IF(ISTEXT(Ekonomia!$H$41),1,""))) -> 2 | Z9: =IF((ISTEXT(Ekonomia!$F$45)),3,IF((ISTEXT(Ekonomia!$G$45)),2,IF(ISTEXT(Ekonomia!$H$45),1,""))) -> 2 | AA9: =IF((ISTEXT(Ekonomia!$F$46)),3,IF((ISTEXT(Ekonomia!$G$46)),2,IF(ISTEXT(Ekonomia!$H$46),1,""))) | AB9: =IF((ISTEXT(Ekonomia!$F$47)),3,IF((ISTEXT(Ekonomia!$G$47)),2,IF(ISTEXT(Ekonomia!$H$47),1,""))) -> 3 | AC9: =IF((ISTEXT(Ekonomia!$F$51)),3,IF((ISTEXT(Ekonomia!$G$51)),2,IF(ISTEXT(Ekonomia!$H$51),1,""))) -> 2 | AD9: =IF((ISTEXT(Ekonomia!$F$52)),3,IF((ISTEXT(Ekonomia!$G$52)),2,IF(ISTEXT(Ekonomia!$H$52),1,""))) -> 2 | AE9: =IF((ISTEXT(Ekonomia!$F$56)),3,IF((ISTEXT(Ekonomia!$G$56)),2,IF(ISTEXT(Ekonomia!$H$56),1,""))) -> 3 | AF9: =IF((ISTEXT(Ekonomia!$F$57)),3,IF((ISTEXT(Ekonomia!$G$57)),2,IF(ISTEXT(Ekonomia!$H$57),1,""))) -> 3 | AG9: =IF((ISTEXT(Ekonomia!$F$61)),3,IF((ISTEXT(Ekonomia!$G$61)),2,IF(ISTEXT(Ekonomia!$H$61),1,""))) -> 3 | AH9: =IF((ISTEXT(Ekonomia!$F$62)),3,IF((ISTEXT(Ekonomia!$G$62)),2,IF(ISTEXT(Ekonomia!$H$62),1,""))) -> 3 | AI9: =IF((ISTEXT(Ekonomia!$F$66)),3,IF((ISTEXT(Ekonomia!$G$66)),2,IF(ISTEXT(Ekonomia!$H$66),1,""))) -> 2 | AJ9: =IF((ISTEXT(Ekonomia!$F$67)),3,IF((ISTEXT(Ekonomia!$G$67)),2,IF(ISTEXT(Ekonomia!$H$67),1,""))) -> 3 | AK9: =IF((ISTEXT(Ekonomia!$F$71)),3,IF((ISTEXT(Ekonomia!$G$71)),2,IF(ISTEXT(Ekonomia!$H$71),1,""))) -> 3 | AL9: =IF((ISTEXT(Ekonomia!$F$72)),3,IF((ISTEXT(Ekonomia!$G$72)),2,IF(ISTEXT(Ekonomia!$H$72),1,""))) -> 2 | AM9: =COUNT(F9:AL9)*3 -> 72 | AN9: =SUM(F9:AL9) -> 62 | AO9: =IFERROR(AN9/AM9,"") -> 0.86111111
A10: 2 | B10: =$B$4 -> WYDZIAŁ EKONOMICZNY | C10: =IFERROR(VLOOKUP(B10,WYDZIAŁY!$A$19:$B$32,2,0),"") -> WE | D10: ='Finanse i rachunkowość'!D6:H6 -> finanse i rachunkowość | E10: =IFERROR(AO10,"") -> 0.86111111 | F10: =IF((ISTEXT('Finanse i rachunkowość'!$F$13)),3,IF((ISTEXT('Finanse i rachunkowość'!$G$13)),2,IF(ISTEXT('Finanse i rachunkowość'!$H$13),1,""))) -> 3 | G10: =IF((ISTEXT('Finanse i rachunkowość'!$F$14)),3,IF((ISTEXT('Finanse i rachunkowość'!$G$14)),2,IF(ISTEXT('Finanse i rachunkowość'!$H$14),1,""))) -> 3 | H10: =IF((ISTEXT('Finanse i rachunkowość'!$F$15)),3,IF((ISTEXT('Finanse i rachunkowość'!$G$15)),2,IF(ISTEXT('Finanse i rachunkowość'!$H$15),1,""))) | I10: =IF((ISTEXT('Finanse i rachunkowość'!$F$16)),3,IF((ISTEXT('Finanse i rachunkowość'!$G$16)),2,IF(ISTEXT('Finanse i rachunkowość'!$H$16),1,""))) | J10: =IF((ISTEXT('Finanse i rachunkowość'!$F$20)),3,IF((ISTEXT('Finanse i rachunkowość'!$G$20)),2,IF(ISTEXT('Finanse i rachunkowość'!$H$20),1,""))) -> 2 | K10: =IF((ISTEXT('Finanse i rachunkowość'!$F$21)),3,IF((ISTEXT('Finanse i rachunkowość'!$G$21)),2,IF(ISTEXT('Finanse i rachunkowość'!$H$21),1,""))) | L10: =IF((ISTEXT('Finanse i rachunkowość'!$F$22)),3,IF((ISTEXT('Finanse i rachunkowość'!$G$22)),2,IF(ISTEXT('Finanse i rachunkowość'!$H$22),1,""))) -> 2 | M10: =IF((ISTEXT('Finanse i rachunkowość'!$F$23)),3,IF((ISTEXT('Finanse i rachunkowość'!$G$23)),2,IF(ISTEXT('Finanse i rachunkowość'!$H$23),1,""))) | N10: =IF((ISTEXT('Finanse i rachunkowość'!$F$24)),3,IF((ISTEXT('Finanse i rachunkowość'!$G$24)),2,IF(ISTEXT('Finanse i rachunkowość'!$H$24),1,""))) -> 3 | O10: =IF((ISTEXT('Finanse i rachunkowość'!$F$25)),3,IF((ISTEXT('Finanse i rachunkowość'!$G$25)),2,IF(ISTEXT('Finanse i rachunkowość'!$H$25),1,""))) -> 3 | P10: =IF((ISTEXT('Finanse i rachunkowość'!$F$26)),3,IF((ISTEXT('Finanse i rachunkowość'!$G$26)),2,IF(ISTEXT('Finanse i rachunkowość'!$H$26),1,""))) | Q10: =IF((ISTEXT('Finanse i rachunkowość'!$F$27)),3,IF((ISTEXT('Finanse i rachunkowość'!$G$27)),2,IF(ISTEXT('Finanse i rachunkowość'!$H$27),1,""))) -> 2 | R10: =IF((ISTEXT('Finanse i rachunkowość'!$F$28)),3,IF((ISTEXT('Finanse i rachunkowość'!$G$28)),2,IF(ISTEXT('Finanse i rachunkowość'!$H$28),1,""))) | S10: =IF((ISTEXT('Finanse i rachunkowość'!$F$32)),3,IF((ISTEXT('Finanse i rachunkowość'!$G$32)),2,IF(ISTEXT('Finanse i rachunkowość'!$H$32),1,""))) -> 3 | T10: =IF((ISTEXT('Finanse i rachunkowość'!$F$33)),3,IF((ISTEXT('Finanse i rachunkowość'!$G$33)),2,IF(ISTEXT('Finanse i rachunkowość'!$H$33),1,""))) -> 3 | U10: =IF((ISTEXT('Finanse i rachunkowość'!$F$34)),3,IF((ISTEXT('Finanse i rachunkowość'!$G$34)),2,IF(ISTEXT('Finanse i rachunkowość'!$H$34),1,""))) | V10: =IF((ISTEXT('Finanse i rachunkowość'!$F$35)),3,IF((ISTEXT('Finanse i rachunkowość'!$G$35)),2,IF(ISTEXT('Finanse i rachunkowość'!$H$35),1,""))) -> 2 | W10: =IF((ISTEXT('Finanse i rachunkowość'!$F$39)),3,IF((ISTEXT('Finanse i rachunkowość'!$G$39)),2,IF(ISTEXT('Finanse i rachunkowość'!$H$39),1,""))) -> 3 | X10: =IF((ISTEXT('Finanse i rachunkowość'!$F$40)),3,IF((ISTEXT('Finanse i rachunkowość'!$G$40)),2,IF(ISTEXT('Finanse i rachunkowość'!$H$40),1,""))) | Y10: =IF((ISTEXT('Finanse i rachunkowość'!$F$41)),3,IF((ISTEXT('Finanse i rachunkowość'!$G$41)),2,IF(ISTEXT('Finanse i rachunkowość'!$H$41),1,""))) -> 2 | Z10: =IF((ISTEXT('Finanse i rachunkowość'!$F$45)),3,IF((ISTEXT('Finanse i rachunkowość'!$G$45)),2,IF(ISTEXT('Finanse i rachunkowość'!$H$45),1,""))) -> 2 | AA10: =IF((ISTEXT('Finanse i rachunkowość'!$F$46)),3,IF((ISTEXT('Finanse i rachunkowość'!$G$46)),2,IF(ISTEXT('Finanse i rachunkowość'!$H$46),1,""))) | AB10: =IF((ISTEXT('Finanse i rachunkowość'!$F$47)),3,IF((ISTEXT('Finanse i rachunkowość'!$G$47)),2,IF(ISTEXT('Finanse i rachunkowość'!$H$47),1,""))) -> 3 | AC10: =IF((ISTEXT('Finanse i rachunkowość'!$F$51)),3,IF((ISTEXT('Finanse i rachunkowość'!$G$51)),2,IF(ISTEXT('Finanse i rachunkowość'!$H$51),1,""))) -> 2 | AD10: =IF((ISTEXT('Finanse i rachunkowość'!$F$52)),3,IF((ISTEXT('Finanse i rachunkowość'!$G$52)),2,IF(ISTEXT('Finanse i rachunkowość'!$H$52),1,""))) -> 2 | AE10: =IF((ISTEXT('Finanse i rachunkowość'!$F$56)),3,IF((ISTEXT('Finanse i rachunkowość'!$G$56)),2,IF(ISTEXT('Finanse i rachunkowość'!$H$56),1,""))) -> 3 | AF10: =IF((ISTEXT('Finanse i rachunkowość'!$F$57)),3,IF((ISTEXT('Finanse i rachunkowość'!$G$57)),2,IF(ISTEXT('Finanse i rachunkowość'!$H$57),1,""))) -> 3 | AG10: =IF((ISTEXT('Finanse i rachunkowość'!$F$61)),3,IF((ISTEXT('Finanse i rachunkowość'!$G$61)),2,IF(ISTEXT('Finanse i rachunkowość'!$H$61),1,""))) -> 3 | AH10: =IF((ISTEXT('Finanse i rachunkowość'!$F$62)),3,IF((ISTEXT('Finanse i rachunkowość'!$G$62)),2,IF(ISTEXT('Finanse i rachunkowość'!$H$62),1,""))) -> 3 | AI10: =IF((ISTEXT('Finanse i rachunkowość'!$F$66)),3,IF((ISTEXT('Finanse i rachunkowość'!$G$66)),2,IF(ISTEXT('Finanse i rachunkowość'!$H$66),1,""))) -> 2 | AJ10: =IF((ISTEXT('Finanse i rachunkowość'!$F$67)),3,IF((ISTEXT('Finanse i rachunkowość'!$G$67)),2,IF(ISTEXT('Finanse i rachunkowość'!$H$67),1,""))) -> 3 | AK10: =IF((ISTEXT('Finanse i rachunkowość'!$F$71)),3,IF((ISTEXT('Finanse i rachunkowość'!$G$71)),2,IF(ISTEXT('Finanse i rachunkowość'!$H$71),1,""))) -> 3 | AL10: =IF((ISTEXT('Finanse i rachunkowość'!$F$72)),3,IF((ISTEXT('Finanse i rachunkowość'!$G$72)),2,IF(ISTEXT('Finanse i rachunkowość'!$H$72),1,""))) -> 2 | AM10: =COUNT(F10:AL10)*3 -> 72 | AN10: =SUM(F10:AL10) -> 62 | AO10: =IFERROR(AN10/AM10,"") -> 0.86111111
A11: 3 | B11: =$B$4 -> WYDZIAŁ EKONOMICZNY | C11: =IFERROR(VLOOKUP(B11,WYDZIAŁY!$A$19:$B$32,2,0),"") -> WE | D11: =Logistyka!D6:H6 -> logistyka | E11: =IFERROR(AO11,"") -> 0.86111111 | F11: =IF((ISTEXT(Logistyka!$F$13)),3,IF((ISTEXT(Logistyka!$G$13)),2,IF(ISTEXT(Logistyka!$H$13),1,""))) -> 3 | G11: =IF((ISTEXT(Logistyka!$F$14)),3,IF((ISTEXT(Logistyka!$G$14)),2,IF(ISTEXT(Logistyka!$H$14),1,""))) -> 3 | H11: =IF((ISTEXT(Logistyka!$F$15)),3,IF((ISTEXT(Logistyka!$G$15)),2,IF(ISTEXT(Logistyka!$H$15),1,""))) | I11: =IF((ISTEXT(Logistyka!$F$16)),3,IF((ISTEXT(Logistyka!$G$16)),2,IF(ISTEXT(Logistyka!$H$16),1,""))) | J11: =IF((ISTEXT(Logistyka!$F$20)),3,IF((ISTEXT(Logistyka!$G$20)),2,IF(ISTEXT(Logistyka!$H$20),1,""))) -> 2 | K11: =IF((ISTEXT(Logistyka!$F$21)),3,IF((ISTEXT(Logistyka!$G$21)),2,IF(ISTEXT(Logistyka!$H$21),1,""))) | L11: =IF((ISTEXT(Logistyka!$F$22)),3,IF((ISTEXT(Logistyka!$G$22)),2,IF(ISTEXT(Logistyka!$H$22),1,""))) -> 2 | M11: =IF((ISTEXT(Logistyka!$F$23)),3,IF((ISTEXT(Logistyka!$G$23)),2,IF(ISTEXT(Logistyka!$H$23),1,""))) | N11: =IF((ISTEXT(Logistyka!$F$24)),3,IF((ISTEXT(Logistyka!$G$24)),2,IF(ISTEXT(Logistyka!$H$24),1,""))) -> 3 | O11: =IF((ISTEXT(Logistyka!$F$25)),3,IF((ISTEXT(Logistyka!$G$25)),2,IF(ISTEXT(Logistyka!$H$25),1,""))) -> 3 | P11: =IF((ISTEXT(Logistyka!$F$26)),3,IF((ISTEXT(Logistyka!$G$26)),2,IF(ISTEXT(Logistyka!$H$26),1,""))) | Q11: =IF((ISTEXT(Logistyka!$F$27)),3,IF((ISTEXT(Logistyka!$G$27)),2,IF(ISTEXT(Logistyka!$H$27),1,""))) -> 2 | R11: =IF((ISTEXT(Logistyka!$F$28)),3,IF((ISTEXT(Logistyka!$G$28)),2,IF(ISTEXT(Logistyka!$H$28),1,""))) | S11: =IF((ISTEXT(Logistyka!$F$32)),3,IF((ISTEXT(Logistyka!$G$32)),2,IF(ISTEXT(Logistyka!$H$32),1,""))) -> 3 | T11: =IF((ISTEXT(Logistyka!$F$33)),3,IF((ISTEXT(Logistyka!$G$33)),2,IF(ISTEXT(Logistyka!$H$33),1,""))) -> 3 | U11: =IF((ISTEXT(Logistyka!$F$34)),3,IF((ISTEXT(Logistyka!$G$34)),2,IF(ISTEXT(Logistyka!$H$34),1,""))) | V11: =IF((ISTEXT(Logistyka!$F$35)),3,IF((ISTEXT(Logistyka!$G$35)),2,IF(ISTEXT(Logistyka!$H$35),1,""))) -> 2 | W11: =IF((ISTEXT(Logistyka!$F$39)),3,IF((ISTEXT(Logistyka!$G$39)),2,IF(ISTEXT(Logistyka!$H$39),1,""))) -> 3 | X11: =IF((ISTEXT(Logistyka!$F$40)),3,IF((ISTEXT(Logistyka!$G$40)),2,IF(ISTEXT(Logistyka!$H$40),1,""))) | Y11: =IF((ISTEXT(Logistyka!$F$41)),3,IF((ISTEXT(Logistyka!$G$41)),2,IF(ISTEXT(Logistyka!$H$41),1,""))) -> 2 | Z11: =IF((ISTEXT(Logistyka!$F$45)),3,IF((ISTEXT(Logistyka!$G$45)),2,IF(ISTEXT(Logistyka!$H$45),1,""))) -> 2 | AA11: =IF((ISTEXT(Logistyka!$F$46)),3,IF((ISTEXT(Logistyka!$G$46)),2,IF(ISTEXT(Logistyka!$H$46),1,""))) | AB11: =IF((ISTEXT(Logistyka!$F$47)),3,IF((ISTEXT(Logistyka!$G$47)),2,IF(ISTEXT(Logistyka!$H$47),1,""))) -> 3 | AC11: =IF((ISTEXT(Logistyka!$F$51)),3,IF((ISTEXT(Logistyka!$G$51)),2,IF(ISTEXT(Logistyka!$H$51),1,""))) -> 2 | AD11: =IF((ISTEXT(Logistyka!$F$52)),3,IF((ISTEXT(Logistyka!$G$52)),2,IF(ISTEXT(Logistyka!$H$52),1,""))) -> 2 | AE11: =IF((ISTEXT(Logistyka!$F$56)),3,IF((ISTEXT(Logistyka!$G$56)),2,IF(ISTEXT(Logistyka!$H$56),1,""))) -> 3 | AF11: =IF((ISTEXT(Logistyka!$F$57)),3,IF((ISTEXT(Logistyka!$G$57)),2,IF(ISTEXT(Logistyka!$H$57),1,""))) -> 3 | AG11: =IF((ISTEXT(Logistyka!$F$61)),3,IF((ISTEXT(Logistyka!$G$61)),2,IF(ISTEXT(Logistyka!$H$61),1,""))) -> 3 | AH11: =IF((ISTEXT(Logistyka!$F$62)),3,IF((ISTEXT(Logistyka!$G$62)),2,IF(ISTEXT(Logistyka!$H$62),1,""))) -> 3 | AI11: =IF((ISTEXT(Logistyka!$F$66)),3,IF((ISTEXT(Logistyka!$G$66)),2,IF(ISTEXT(Logistyka!$H$66),1,""))) -> 2 | AJ11: =IF((ISTEXT(Logistyka!$F$67)),3,IF((ISTEXT(Logistyka!$G$67)),2,IF(ISTEXT(Logistyka!$H$67),1,""))) -> 3 | AK11: =IF((ISTEXT(Logistyka!$F$71)),3,IF((ISTEXT(Logistyka!$G$71)),2,IF(ISTEXT(Logistyka!$H$71),1,""))) -> 3 | AL11: =IF((ISTEXT(Logistyka!$F$72)),3,IF((ISTEXT(Logistyka!$G$72)),2,IF(ISTEXT(Logistyka!$H$72),1,""))) -> 2 | AM11: =COUNT(F11:AL11)*3 -> 72 | AN11: =SUM(F11:AL11) -> 62 | AO11: =IFERROR(AN11/AM11,"") -> 0.86111111
A12: 4 | B12: =$B$4 -> WYDZIAŁ EKONOMICZNY | C12: =IFERROR(VLOOKUP(B12,WYDZIAŁY!$A$19:$B$32,2,0),"") -> WE | D12: ='Turystyka i rekreacja'!D6:H6 -> turystyka i rekreacja | E12: =IFERROR(AO12,"") -> 0.86111111 | F12: =IF((ISTEXT('Turystyka i rekreacja'!$F$13)),3,IF((ISTEXT('Turystyka i rekreacja'!$G$13)),2,IF(ISTEXT('Turystyka i rekreacja'!$H$13),1,""))) -> 3 | G12: =IF((ISTEXT('Turystyka i rekreacja'!$F$14)),3,IF((ISTEXT('Turystyka i rekreacja'!$G$14)),2,IF(ISTEXT('Turystyka i rekreacja'!$H$14),1,""))) -> 3 | H12: =IF((ISTEXT('Turystyka i rekreacja'!$F$15)),3,IF((ISTEXT('Turystyka i rekreacja'!$G$15)),2,IF(ISTEXT('Turystyka i rekreacja'!$H$15),1,""))) | I12: =IF((ISTEXT('Turystyka i rekreacja'!$F$16)),3,IF((ISTEXT('Turystyka i rekreacja'!$G$16)),2,IF(ISTEXT('Turystyka i rekreacja'!$H$16),1,""))) | J12: =IF((ISTEXT('Turystyka i rekreacja'!$F$20)),3,IF((ISTEXT('Turystyka i rekreacja'!$G$20)),2,IF(ISTEXT('Turystyka i rekreacja'!$H$20),1,""))) -> 2 | K12: =IF((ISTEXT('Turystyka i rekreacja'!$F$21)),3,IF((ISTEXT('Turystyka i rekreacja'!$G$21)),2,IF(ISTEXT('Turystyka i rekreacja'!$H$21),1,""))) | L12: =IF((ISTEXT('Turystyka i rekreacja'!$F$22)),3,IF((ISTEXT('Turystyka i rekreacja'!$G$22)),2,IF(ISTEXT('Turystyka i rekreacja'!$H$22),1,""))) -> 2 | M12: =IF((ISTEXT('Turystyka i rekreacja'!$F$23)),3,IF((ISTEXT('Turystyka i rekreacja'!$G$23)),2,IF(ISTEXT('Turystyka i rekreacja'!$H$23),1,""))) | N12: =IF((ISTEXT('Turystyka i rekreacja'!$F$24)),3,IF((ISTEXT('Turystyka i rekreacja'!$G$24)),2,IF(ISTEXT('Turystyka i rekreacja'!$H$24),1,""))) -> 3 | O12: =IF((ISTEXT('Turystyka i rekreacja'!$F$25)),3,IF((ISTEXT('Turystyka i rekreacja'!$G$25)),2,IF(ISTEXT('Turystyka i rekreacja'!$H$25),1,""))) -> 3 | P12: =IF((ISTEXT('Turystyka i rekreacja'!$F$26)),3,IF((ISTEXT('Turystyka i rekreacja'!$G$26)),2,IF(ISTEXT('Turystyka i rekreacja'!$H$26),1,""))) | Q12: =IF((ISTEXT('Turystyka i rekreacja'!$F$27)),3,IF((ISTEXT('Turystyka i rekreacja'!$G$27)),2,IF(ISTEXT('Turystyka i rekreacja'!$H$27),1,""))) -> 2 | R12: =IF((ISTEXT('Turystyka i rekreacja'!$F$28)),3,IF((ISTEXT('Turystyka i rekreacja'!$G$28)),2,IF(ISTEXT('Turystyka i rekreacja'!$H$28),1,""))) | S12: =IF((ISTEXT('Turystyka i rekreacja'!$F$32)),3,IF((ISTEXT('Turystyka i rekreacja'!$G$32)),2,IF(ISTEXT('Turystyka i rekreacja'!$H$32),1,""))) -> 3 | T12: =IF((ISTEXT('Turystyka i rekreacja'!$F$33)),3,IF((ISTEXT('Turystyka i rekreacja'!$G$33)),2,IF(ISTEXT('Turystyka i rekreacja'!$H$33),1,""))) -> 3 | U12: =IF((ISTEXT('Turystyka i rekreacja'!$F$34)),3,IF((ISTEXT('Turystyka i rekreacja'!$G$34)),2,IF(ISTEXT('Turystyka i rekreacja'!$H$34),1,""))) | V12: =IF((ISTEXT('Turystyka i rekreacja'!$F$35)),3,IF((ISTEXT('Turystyka i rekreacja'!$G$35)),2,IF(ISTEXT('Turystyka i rekreacja'!$H$35),1,""))) -> 2 | W12: =IF((ISTEXT('Turystyka i rekreacja'!$F$39)),3,IF((ISTEXT('Turystyka i rekreacja'!$G$39)),2,IF(ISTEXT('Turystyka i rekreacja'!$H$39),1,""))) -> 3 | X12: =IF((ISTEXT('Turystyka i rekreacja'!$F$40)),3,IF((ISTEXT('Turystyka i rekreacja'!$G$40)),2,IF(ISTEXT('Turystyka i rekreacja'!$H$40),1,""))) | Y12: =IF((ISTEXT('Turystyka i rekreacja'!$F$41)),3,IF((ISTEXT('Turystyka i rekreacja'!$G$41)),2,IF(ISTEXT('Turystyka i rekreacja'!$H$41),1,""))) -> 2 | Z12: =IF((ISTEXT('Turystyka i rekreacja'!$F$45)),3,IF((ISTEXT('Turystyka i rekreacja'!$G$45)),2,IF(ISTEXT('Turystyka i rekreacja'!$H$45),1,""))) -> 2 | AA12: =IF((ISTEXT('Turystyka i rekreacja'!$F$46)),3,IF((ISTEXT('Turystyka i rekreacja'!$G$46)),2,IF(ISTEXT('Turystyka i rekreacja'!$H$46),1,""))) | AB12: =IF((ISTEXT('Turystyka i rekreacja'!$F$47)),3,IF((ISTEXT('Turystyka i rekreacja'!$G$47)),2,IF(ISTEXT('Turystyka i rekreacja'!$H$47),1,""))) -> 3 | AC12: =IF((ISTEXT('Turystyka i rekreacja'!$F$51)),3,IF((ISTEXT('Turystyka i rekreacja'!$G$51)),2,IF(ISTEXT('Turystyka i rekreacja'!$H$51),1,""))) -> 2 | AD12: =IF((ISTEXT('Turystyka i rekreacja'!$F$52)),3,IF((ISTEXT('Turystyka i rekreacja'!$G$52)),2,IF(ISTEXT('Turystyka i rekreacja'!$H$52),1,""))) -> 2 | AE12: =IF((ISTEXT('Turystyka i rekreacja'!$F$56)),3,IF((ISTEXT('Turystyka i rekreacja'!$G$56)),2,IF(ISTEXT('Turystyka i rekreacja'!$H$56),1,""))) -> 3 | AF12: =IF((ISTEXT('Turystyka i rekreacja'!$F$57)),3,IF((ISTEXT('Turystyka i rekreacja'!$G$57)),2,IF(ISTEXT('Turystyka i rekreacja'!$H$57),1,""))) -> 3 | AG12: =IF((ISTEXT('Turystyka i rekreacja'!$F$61)),3,IF((ISTEXT('Turystyka i rekreacja'!$G$61)),2,IF(ISTEXT('Turystyka i rekreacja'!$H$61),1,""))) -> 3 | AH12: =IF((ISTEXT('Turystyka i rekreacja'!$F$62)),3,IF((ISTEXT('Turystyka i rekreacja'!$G$62)),2,IF(ISTEXT('Turystyka i rekreacja'!$H$62),1,""))) -> 3 | AI12: =IF((ISTEXT('Turystyka i rekreacja'!$F$66)),3,IF((ISTEXT('Turystyka i rekreacja'!$G$66)),2,IF(ISTEXT('Turystyka i rekreacja'!$H$66),1,""))) -> 2 | AJ12: =IF((ISTEXT('Turystyka i rekreacja'!$F$67)),3,IF((ISTEXT('Turystyka i rekreacja'!$G$67)),2,IF(ISTEXT('Turystyka i rekreacja'!$H$67),1,""))) -> 3 | AK12: =IF((ISTEXT('Turystyka i rekreacja'!$F$71)),3,IF((ISTEXT('Turystyka i rekreacja'!$G$71)),2,IF(ISTEXT('Turystyka i rekreacja'!$H$71),1,""))) -> 3 | AL12: =IF((ISTEXT('Turystyka i rekreacja'!$F$72)),3,IF((ISTEXT('Turystyka i rekreacja'!$G$72)),2,IF(ISTEXT('Turystyka i rekreacja'!$H$72),1,""))) -> 2 | AM12: =COUNT(F12:AL12)*3 -> 72 | AN12: =SUM(F12:AL12) -> 62 | AO12: =IFERROR(AN12/AM12,"") -> 0.86111111
A13: 5 | B13: =$B$4 -> WYDZIAŁ EKONOMICZNY | C13: =IFERROR(VLOOKUP(B13,WYDZIAŁY!$A$19:$B$32,2,0),"") -> WE | D13: =Zarządzanie!D6:H6 -> zarządzanie | E13: =IFERROR(AO13,"") -> 0.86111111 | F13: =IF((ISTEXT(Zarządzanie!$F$13)),3,IF((ISTEXT(Zarządzanie!$G$13)),2,IF(ISTEXT(Zarządzanie!$H$13),1,""))) -> 3 | G13: =IF((ISTEXT(Zarządzanie!$F$14)),3,IF((ISTEXT(Zarządzanie!$G$14)),2,IF(ISTEXT(Zarządzanie!$H$14),1,""))) -> 3 | H13: =IF((ISTEXT(Zarządzanie!$F$15)),3,IF((ISTEXT(Zarządzanie!$G$15)),2,IF(ISTEXT(Zarządzanie!$H$15),1,""))) | I13: =IF((ISTEXT(Zarządzanie!$F$16)),3,IF((ISTEXT(Zarządzanie!$G$16)),2,IF(ISTEXT(Zarządzanie!$H$16),1,""))) | J13: =IF((ISTEXT(Zarządzanie!$F$20)),3,IF((ISTEXT(Zarządzanie!$G$20)),2,IF(ISTEXT(Zarządzanie!$H$20),1,""))) -> 2 | K13: =IF((ISTEXT(Zarządzanie!$F$21)),3,IF((ISTEXT(Zarządzanie!$G$21)),2,IF(ISTEXT(Zarządzanie!$H$21),1,""))) | L13: =IF((ISTEXT(Zarządzanie!$F$22)),3,IF((ISTEXT(Zarządzanie!$G$22)),2,IF(ISTEXT(Zarządzanie!$H$22),1,""))) -> 2 | M13: =IF((ISTEXT(Zarządzanie!$F$23)),3,IF((ISTEXT(Zarządzanie!$G$23)),2,IF(ISTEXT(Zarządzanie!$H$23),1,""))) | N13: =IF((ISTEXT(Zarządzanie!$F$24)),3,IF((ISTEXT(Zarządzanie!$G$24)),2,IF(ISTEXT(Zarządzanie!$H$24),1,""))) -> 3 | O13: =IF((ISTEXT(Zarządzanie!$F$25)),3,IF((ISTEXT(Zarządzanie!$G$25)),2,IF(ISTEXT(Zarządzanie!$H$25),1,""))) -> 3 | P13: =IF((ISTEXT(Zarządzanie!$F$26)),3,IF((ISTEXT(Zarządzanie!$G$26)),2,IF(ISTEXT(Zarządzanie!$H$26),1,""))) | Q13: =IF((ISTEXT(Zarządzanie!$F$27)),3,IF((ISTEXT(Zarządzanie!$G$27)),2,IF(ISTEXT(Zarządzanie!$H$27),1,""))) -> 2 | R13: =IF((ISTEXT(Zarządzanie!$F$28)),3,IF((ISTEXT(Zarządzanie!$G$28)),2,IF(ISTEXT(Zarządzanie!$H$28),1,""))) | S13: =IF((ISTEXT(Zarządzanie!$F$32)),3,IF((ISTEXT(Zarządzanie!$G$32)),2,IF(ISTEXT(Zarządzanie!$H$32),1,""))) -> 3 | T13: =IF((ISTEXT(Zarządzanie!$F$33)),3,IF((ISTEXT(Zarządzanie!$G$33)),2,IF(ISTEXT(Zarządzanie!$H$33),1,""))) -> 3 | U13: =IF((ISTEXT(Zarządzanie!$F$34)),3,IF((ISTEXT(Zarządzanie!$G$34)),2,IF(ISTEXT(Zarządzanie!$H$34),1,""))) | V13: =IF((ISTEXT(Zarządzanie!$F$35)),3,IF((ISTEXT(Zarządzanie!$G$35)),2,IF(ISTEXT(Zarządzanie!$H$35),1,""))) -> 2 | W13: =IF((ISTEXT(Zarządzanie!$F$39)),3,IF((ISTEXT(Zarządzanie!$G$39)),2,IF(ISTEXT(Zarządzanie!$H$39),1,""))) -> 3 | X13: =IF((ISTEXT(Zarządzanie!$F$40)),3,IF((ISTEXT(Zarządzanie!$G$40)),2,IF(ISTEXT(Zarządzanie!$H$40),1,""))) | Y13: =IF((ISTEXT(Zarządzanie!$F$41)),3,IF((ISTEXT(Zarządzanie!$G$41)),2,IF(ISTEXT(Zarządzanie!$H$41),1,""))) -> 2 | Z13: =IF((ISTEXT(Zarządzanie!$F$45)),3,IF((ISTEXT(Zarządzanie!$G$45)),2,IF(ISTEXT(Zarządzanie!$H$45),1,""))) -> 2 | AA13: =IF((ISTEXT(Zarządzanie!$F$46)),3,IF((ISTEXT(Zarządzanie!$G$46)),2,IF(ISTEXT(Zarządzanie!$H$46),1,""))) | AB13: =IF((ISTEXT(Zarządzanie!$F$47)),3,IF((ISTEXT(Zarządzanie!$G$47)),2,IF(ISTEXT(Zarządzanie!$H$47),1,""))) -> 3 | AC13: =IF((ISTEXT(Zarządzanie!$F$51)),3,IF((ISTEXT(Zarządzanie!$G$51)),2,IF(ISTEXT(Zarządzanie!$H$51),1,""))) -> 2 | AD13: =IF((ISTEXT(Zarządzanie!$F$52)),3,IF((ISTEXT(Zarządzanie!$G$52)),2,IF(ISTEXT(Zarządzanie!$H$52),1,""))) -> 2 | AE13: =IF((ISTEXT(Zarządzanie!$F$56)),3,IF((ISTEXT(Zarządzanie!$G$56)),2,IF(ISTEXT(Zarządzanie!$H$56),1,""))) -> 3 | AF13: =IF((ISTEXT(Zarządzanie!$F$57)),3,IF((ISTEXT(Zarządzanie!$G$57)),2,IF(ISTEXT(Zarządzanie!$H$57),1,""))) -> 3 | AG13: =IF((ISTEXT(Zarządzanie!$F$61)),3,IF((ISTEXT(Zarządzanie!$G$61)),2,IF(ISTEXT(Zarządzanie!$H$61),1,""))) -> 3 | AH13: =IF((ISTEXT(Zarządzanie!$F$62)),3,IF((ISTEXT(Zarządzanie!$G$62)),2,IF(ISTEXT(Zarządzanie!$H$62),1,""))) -> 3 | AI13: =IF((ISTEXT(Zarządzanie!$F$66)),3,IF((ISTEXT(Zarządzanie!$G$66)),2,IF(ISTEXT(Zarządzanie!$H$66),1,""))) -> 2 | AJ13: =IF((ISTEXT(Zarządzanie!$F$67)),3,IF((ISTEXT(Zarządzanie!$G$67)),2,IF(ISTEXT(Zarządzanie!$H$67),1,""))) -> 3 | AK13: =IF((ISTEXT(Zarządzanie!$F$71)),3,IF((ISTEXT(Zarządzanie!$G$71)),2,IF(ISTEXT(Zarządzanie!$H$71),1,""))) -> 3 | AL13: =IF((ISTEXT(Zarządzanie!$F$72)),3,IF((ISTEXT(Zarządzanie!$G$72)),2,IF(ISTEXT(Zarządzanie!$H$72),1,""))) -> 2 | AM13: =COUNT(F13:AL13)*3 -> 72 | AN13: =SUM(F13:AL13) -> 62 | AO13: =IFERROR(AN13/AM13,"") -> 0.86111111

Sheet DOBRE PRAKTYKI
B2: =Start!$A$12 -> WYDZIAŁ EKONOMICZNY
B4: Dobre praktyki dla kierunku: | C4: =Ekonomia!$D$6 -> ekonomia
B7: Kryterium | C7: Dobra praktyka
B8: DOBRE PRAKTYKI dla Kryterium 1. Konstrukcja programu studiów: koncepcja, cele kształcenia i efekty uczenia się | C8: =IF(Ekonomia!$D$18=0,"",Ekonomia!$D$18) -> Wielopoziomowa ocena koncepcji i celów kształcenia (opinia studentów, interesariuszy z otoczenia społeczno-gospodarczego, ocena szans zatrudnienia absolwentów dokonywanej poprzez ocenę potrzeb rynku pracy i śledzenia karier absolwentów, analiza możliwości kontynuacji kształcenia).
B9: DOBRE PRAKTYKI dla Kryterium 2. Realizacja programu studiów: treści programowe, harmonogram realizacji programu studiów oraz formy i organizacja zajęć, metody kształcenia, praktyki zawodowe, organizacja procesu nauczania i uczenia się | C9: =IF(Ekonomia!$D$30=0,"",Ekonomia!$D$30) -> Dobrymi praktykami w zakresie jakości kształcenia jest bieżące gromadzenie opinii nauczycieli oraz studentów, co pozwala na sprawniejszą organizację zajęć. Zajęcia dydaktyczne prowadzone są przez profesorów wizytujących z międzynarodowych ośrodków badawczych, którzy przedstawiają swoje wyniki badań oraz inne formy metod kształcenia.
B10: DOBRE PRAKTYKI dla Kryterium 3. Przyjęcie na studia, weryfikacja osiągnięcia przez studentów efektów uczenia się, zaliczanie poszczególnych semestrów i lat oraz dyplomowanie | C10: =IF(Ekonomia!$D$37=0,"",Ekonomia!$D$37) -> Dobrą praktyka w zakresie procesu dyplomowania jest aktualizacja bieżących zagadnień osób prowadzących seminarium, potencjalnych promotorów a także prezentacja dorobku naukowego podczas proseminarium.
B11: DOBRE PRAKTYKI dla Kryterium 4. Kompetencje, doświadczenie, kwalifikacje i liczebność kadry prowadzącej kształcenie oraz rozwój i doskonalenie kadry | C11: =IF(Ekonomia!$D$43=0,"",Ekonomia!$D$43) -> Za dobrą praktykę w zakresie jakości kształcenia w analizowanym obszarze można uznać dbanie o właściwy dobór kadry dydaktycznej, posiadającej udokumentowany dorobek naukowy w zakresie nauczanych przedmiotów. Dobrą praktyką jest prezentowanie dodatkowo zbiorczych wyników ocen studentów na Radach Dyscyplin IEiF oraz IZ.
B12: DOBRE PRAKTYKI dla Kryterium 5. Infrastruktura i zasoby edukacyjne wykorzystywane w realizacji programu studiów oraz ich doskonalenie | C12: =IF(Ekonomia!$D$49=0,"",Ekonomia!$D$49) -> Za dobre praktyki w tym zakresie oceny infrastruktury może uznać stały monitoring potrzeb edukacyjnych realizowany przez stały kontakt z samorządem studentów oraz pracownikami IEiF oraz IZ.
B13: DOBRE PRAKTYKI dla Kryterium 6. Współpraca z otoczeniem społeczno-gospodarczym w konstruowaniu, realizacji i doskonaleniu programu studiów oraz jej wpływ na rozwój kierunku | C13: =IF(Ekonomia!$D$54=0,"",Ekonomia!$D$54) -> Zwiększenie zaangażowania interesariuszy zewnętrznych poprzez rozbudowę Zespołu Interesariuszy Zewnętrznych na WE.
B14: DOBRE PRAKTYKI dla Kryterium 7. Warunki i sposoby podnoszenia stopnia umiędzynarodowienia procesu kształcenia na kierunku | C14: =IF(Ekonomia!$D$59=0,"",Ekonomia!$D$59) -> Dobrą praktyką jest możliwość wyboru przez studentów Erasmus przedmiotów realizowanych dla danego programu studiów w języku angielskim. Dobrą praktyką jest również organizacja zajęć z profesorem wizytującym, dzięki na stale włączonym w program studiów przedmiocie w języki angielskim.
B15: DOBRE PRAKTYKI dla Kryterium 8. Wsparcie studentów w uczeniu się, rozwoju społecznym, naukowym lub zawodowym i wejściu na rynek pracy oraz rozwój i doskonalenie form wsparcia | C15: =IF(Ekonomia!$D$64=0,"",Ekonomia!$D$64) -> Dobrą praktyką jest bieżąca aktualizacja dyżurów na stronie WE przez pracowników naukowo-dydaktycznych oraz zamieszczanie informacje o dyżurze również w komentarzu aplikacji Ms Teams.
B16: DOBRE PRAKTYKI dla Kryterium 9. Publiczny dostęp do informacji o programie studiów, warunkach jego realizacji i osiąganych rezultatach | C16: =IF(Ekonomia!$D$69=0,"",Ekonomia!$D$69) -> Za dobre praktyki w zakresie jakości kształcenia na kierunku w analizowanym obszarze można uznać dbałość władz Wydziału o stałe podnoszenie jakości i dostępności do informacji - świadczą o tym stałe prace prowadzone nad strukturą strony WE.
B17: DOBRE PRAKTYKI dla Kryterium 10. Polityka jakości, projektowanie, zatwierdzanie, monitorowanie, przegląd i doskonalenie programu studiów. | C17: =IF(Ekonomia!$D$74=0,"",Ekonomia!$D$74) -> Dobrą praktyką jest stałe monitorowanie jakości kształcenia przez władze dziekańskie poprzez angażowanie wielu grup jej uczestników.
B39: =Start!$A$12 -> WYDZIAŁ EKONOMICZNY
B41: Dobre praktyki dla kierunku: | C41: ='Finanse i rachunkowość'!$D$6 -> finanse i rachunkowość
B44: Kryterium | C44: Dobra praktyka
B45: DOBRE PRAKTYKI dla Kryterium 1. Konstrukcja programu studiów: koncepcja, cele kształcenia i efekty uczenia się | C45: =IF('Finanse i rachunkowość'!$D$18=0,"",'Finanse i rachunkowość'!$D$18) -> Wielopoziomowa ocena koncepcji i celów kształcenia (opinia studentów, interesariuszy z otoczenia społeczno-gospodarczego, ocena szans zatrudnienia absolwentów dokonywanej poprzez ocenę potrzeb rynku pracy i śledzenia karier absolwentów, analiza możliwości kontynuacji kształcenia).
B46: DOBRE PRAKTYKI dla Kryterium 2. Realizacja programu studiów: treści programowe, harmonogram realizacji programu studiów oraz formy i organizacja zajęć, metody kształcenia, praktyki zawodowe, organizacja procesu nauczania i uczenia się | C46: =IF('Finanse i rachunkowość'!$D$30=0,"",'Finanse i rachunkowość'!$D$30) -> Dobrymi praktykami w zakresie jakości kształcenia jest bieżące gromadzenie opinii nauczycieli oraz studentów, co pozwala na sprawniejszą organizację zajęć. Zajęcia dydaktyczne prowadzone są przez profesorów wizytujących z międzynarodowych ośrodków badawczych, którzy przedstawiają swoje wyniki badań oraz inne formy metod kształcenia.
B47: DOBRE PRAKTYKI dla Kryterium 3. Przyjęcie na studia, weryfikacja osiągnięcia przez studentów efektów uczenia się, zaliczanie poszczególnych semestrów i lat oraz dyplomowanie | C47: =IF('Finanse i rachunkowość'!$D$37=0,"",'Finanse i rachunkowość'!$D$37) -> Dobrą praktyka w zakresie procesu dyplomowania jest aktualizacja bieżących zagadnień osób prowadzących seminarium, potencjalnych promotorów a także prezentacja dorobku naukowego podczas proseminarium.
B48: DOBRE PRAKTYKI dla Kryterium 4. Kompetencje, doświadczenie, kwalifikacje i liczebność kadry prowadzącej kształcenie oraz rozwój i doskonalenie kadry | C48: =IF('Finanse i rachunkowość'!$D$43=0,"",'Finanse i rachunkowość'!$D$43) -> Za dobrą praktykę w zakresie jakości kształcenia w analizowanym obszarze można uznać dbanie o właściwy dobór kadry dydaktycznej, posiadającej udokumentowany dorobek naukowy w zakresie nauczanych przedmiotów. Dobrą praktyką jest prezentowanie dodatkowo zbiorczych wyników ocen studentów na Radach Dyscyplin IEiF oraz IZ.
B49: DOBRE PRAKTYKI dla Kryterium 5. Infrastruktura i zasoby edukacyjne wykorzystywane w realizacji programu studiów oraz ich doskonalenie | C49: =IF('Finanse i rachunkowość'!$D$49=0,"",'Finanse i rachunkowość'!$D$49) -> Za dobre praktyki w tym zakresie oceny infrastruktury może uznać stały monitoring potrzeb edukacyjnych realizowany przez stały kontakt z samorządem studentów oraz pracownikami IEiF oraz IZ.
B50: DOBRE PRAKTYKI dla Kryterium 6. Współpraca z otoczeniem społeczno-gospodarczym w konstruowaniu, realizacji i doskonaleniu programu studiów oraz jej wpływ na rozwój kierunku | C50: =IF('Finanse i rachunkowość'!$D$54=0,"",'Finanse i rachunkowość'!$D$54) -> Zwiększenie zaangażowania interesariuszy zewnętrznych poprzez rozbudowę Zespołu Interesariuszy Zewnętrznych na WE.
B51: DOBRE PRAKTYKI dla Kryterium 7. Warunki i sposoby podnoszenia stopnia umiędzynarodowienia procesu kształcenia na kierunku | C51: =IF('Finanse i rachunkowość'!$D$59=0,"",'Finanse i rachunkowość'!$D$59) -> Dobrą praktyką jest bieżąca aktualizacja dyżurów na stronie WE przez pracowników naukowo-dydaktycznych oraz zamieszczanie informacje o dyżurze również w komentarzu aplikacji Ms Teams.
B52: DOBRE PRAKTYKI dla Kryterium 8. Wsparcie studentów w uczeniu się, rozwoju społecznym, naukowym lub zawodowym i wejściu na rynek pracy oraz rozwój i doskonalenie form wsparcia | C52: =IF('Finanse i rachunkowość'!$D$64=0,"",'Finanse i rachunkowość'!$D$64) -> Dobrą praktyką jest bieżąca aktualizacja dyżurów na stronie WE przez pracowników naukowo-dydaktycznych oraz zamieszczanie informacje o dyżurze również w komentarzu aplikacji Ms Teams.
B53: DOBRE PRAKTYKI dla Kryterium 9. Publiczny dostęp do informacji o programie studiów, warunkach jego realizacji i osiąganych rezultatach | C53: =IF('Finanse i rachunkowość'!$D$69=0,"",'Finanse i rachunkowość'!$D$69) -> Za dobre praktyki w zakresie jakości kształcenia na kierunku w analizowanym obszarze można uznać dbałość władz Wydziału o stałe podnoszenie jakości i dostępności do informacji - świadczą o tym stałe prace prowadzone nad strukturą strony WE.
B54: DOBRE PRAKTYKI dla Kryterium 10. Polityka jakości, projektowanie, zatwierdzanie, monitorowanie, przegląd i doskonalenie programu studiów. | C54: =IF('Finanse i rachunkowość'!$D$74=0,"",'Finanse i rachunkowość'!$D$74) -> Dobrą praktyką jest stałe monitorowanie jakości kształcenia przez władze dziekańskie poprzez angażowanie wielu grup jej uczestników.
B88: =Start!$A$12 -> WYDZIAŁ EKONOMICZNY
B90: Dobre praktyki dla kierunku: | C90: =Logistyka!$D$6 -> logistyka
B93: Kryterium | C93: Dobra praktyka
B94: DOBRE PRAKTYKI dla Kryterium 1. Konstrukcja programu studiów: koncepcja, cele kształcenia i efekty uczenia się | C94: =IF(Logistyka!$D$18=0,"",Logistyka!$D$18) -> Wielopoziomowa ocena koncepcji i celów kształcenia (opinia studentów, interesariuszy z otoczenia społeczno-gospodarczego, ocena szans zatrudnienia absolwentów dokonywanej poprzez ocenę potrzeb rynku pracy i śledzenia karier absolwentów, analiza możliwości kontynuacji kształcenia).
B95: DOBRE PRAKTYKI dla Kryterium 2. Realizacja programu studiów: treści programowe, harmonogram realizacji programu studiów oraz formy i organizacja zajęć, metody kształcenia, praktyki zawodowe, organizacja procesu nauczania i uczenia się | C95: =IF(Logistyka!$D$30=0,"",Logistyka!$D$30) -> Dobrymi praktykami w zakresie jakości kształcenia jest bieżące gromadzenie opinii nauczycieli oraz studentów, co pozwala na sprawniejszą organizację zajęć. Zajęcia dydaktyczne prowadzone są przez profesorów wizytujących z międzynarodowych ośrodków badawczych, którzy przedstawiają swoje wyniki badań oraz inne formy metod kształcenia.
B96: DOBRE PRAKTYKI dla Kryterium 3. Przyjęcie na studia, weryfikacja osiągnięcia przez studentów efektów uczenia się, zaliczanie poszczególnych semestrów i lat oraz dyplomowanie | C96: =IF(Logistyka!$D$37=0,"",Logistyka!$D$37) -> Dobrą praktyka w zakresie procesu dyplomowania jest aktualizacja bieżących zagadnień osób prowadzących seminarium, potencjalnych promotorów a także prezentacja dorobku naukowego podczas proseminarium.
B97: DOBRE PRAKTYKI dla Kryterium 4. Kompetencje, doświadczenie, kwalifikacje i liczebność kadry prowadzącej kształcenie oraz rozwój i doskonalenie kadry | C97: =IF(Logistyka!$D$43=0,"",Logistyka!$D$43) -> Za dobrą praktykę w zakresie jakości kształcenia w analizowanym obszarze można uznać dbanie o właściwy dobór kadry dydaktycznej, posiadającej udokumentowany dorobek naukowy w zakresie nauczanych przedmiotów. Dobrą praktyką jest prezentowanie dodatkowo zbiorczych wyników ocen studentów na Radach Dyscyplin IEiF oraz IZ.
B98: DOBRE PRAKTYKI dla Kryterium 5. Infrastruktura i zasoby edukacyjne wykorzystywane w realizacji programu studiów oraz ich doskonalenie | C98: =IF(Logistyka!$D$49=0,"",Logistyka!$D$49) -> Za dobre praktyki w tym zakresie oceny infrastruktury może uznać stały monitoring potrzeb edukacyjnych realizowany przez stały kontakt z samorządem studentów oraz pracownikami IEiF oraz IZ.
B99: DOBRE PRAKTYKI dla Kryterium 6. Współpraca z otoczeniem społeczno-gospodarczym w konstruowaniu, realizacji i doskonaleniu programu studiów oraz jej wpływ na rozwój kierunku | C99: =IF(Logistyka!$D$54=0,"",Logistyka!$D$54) -> Zwiększenie zaangażowania interesariuszy zewnętrznych poprzez rozbudowę Zespołu Interesariuszy Zewnętrznych na WE.
B100: DOBRE PRAKTYKI dla Kryterium 7. Warunki i sposoby podnoszenia stopnia umiędzynarodowienia procesu kształcenia na kierunku | C100: =IF(Logistyka!$D$59=0,"",Logistyka!$D$59) -> Dobrą praktyką jest bieżąca aktualizacja dyżurów na stronie WE przez pracowników naukowo-dydaktycznych oraz zamieszczanie informacje o dyżurze również w komentarzu aplikacji Ms Teams.
B101: DOBRE PRAKTYKI dla Kryterium 8. Wsparcie studentów w uczeniu się, rozwoju społecznym, naukowym lub zawodowym i wejściu na rynek pracy oraz rozwój i doskonalenie form wsparcia | C101: =IF(Logistyka!$D$64=0,"",Logistyka!$D$64) -> Dobrą praktyką jest bieżąca aktualizacja dyżurów na stronie WE przez pracowników naukowo-dydaktycznych oraz zamieszczanie informacje o dyżurze również w komentarzu aplikacji Ms Teams.
B102: DOBRE PRAKTYKI dla Kryterium 9. Publiczny dostęp do informacji o programie studiów, warunkach jego realizacji i osiąganych rezultatach | C102: =IF(Logistyka!$D$69=0,"",Logistyka!$D$69) -> Za dobre praktyki w zakresie jakości kształcenia na kierunku w analizowanym obszarze można uznać dbałość władz Wydziału o stałe podnoszenie jakości i dostępności do informacji - świadczą o tym stałe prace prowadzone nad strukturą strony WE.
B103: DOBRE PRAKTYKI dla Kryterium 10. Polityka jakości, projektowanie, zatwierdzanie, monitorowanie, przegląd i doskonalenie programu studiów. | C103: =IF(Logistyka!$D$74=0,"",Logistyka!$D$74) -> Dobrą praktyką jest stałe monitorowanie jakości kształcenia przez władze dziekańskie poprzez angażowanie wielu grup jej uczestników.
B134: =Start!$A$12 -> WYDZIAŁ EKONOMICZNY
...

Sheet Ekonomia
B2: Analiza i ocena funkcjonowania Wewnętrznego Systemu Zapewnienia i Doskonalenia Jakości Kształcenia
A6: =Start!A12 -> WYDZIAŁ EKONOMICZNY | D6: ekonomia
A9: A | B9: B | C9: C | D9: D | E9: E | F9: F
A10: Lp. | B10: Weryfikowane kryteria w ramach przeglądu systemu jakości kształcenia. | C10: Jakie działania (narzędzia) wykorzystano do monitorowania? | D10: Jakie wnioski płyną z wykonanych analiz w odniesieniu do kierunku? | E10: Co zostało zmienione w zakresie kształcenia na kierunku na podstawie wyciągniętych wniosków? | F10: Na ile osiągnięte zostały cele opisane w kryterium?
F11: wysoko | G11: średnio | H11: nisko
B12: Kryterium 1. Konstrukcja programu studiów: koncepcja, cele kształcenia i efekty uczenia się | F12: 3 | G12: 2 | H12: 1
A13: 1.1 | B13: Koncepcja i cele kształcenia są zgodne ze strategią uczelni, mieszczą się w dyscyplinie lub dyscyplinach, do których kierunek jest przyporządkowany, są powiązane z działalnością naukową prowadzoną w uczelni w tej dyscyplinie lub dyscyplinach oraz zorientowane na potrzeby otoczenia społeczno-gospodarczego, w tym w szczególności zawodowego rynku pracy. | C13: Raporty | D13: Na podstawie wniosków z monitoringu systemu jakości kształcenia stwierdzono, że koncepcja i cele kształcenia są zgodne ze strategią i dyscyplinami oraz zorientowane na potrzeby otoczenia społeczno-gospodarczego, w tym w szczególności zawodowego rynku pracy. Koncepcja i cele kształcenia są powiązane z działalnością naukową prowadzoną w Katedrach Instytutu Ekonomii i Finansów oraz Instytucie Zarządzania współpracujących z Wydziałem Ekonomicznym. Pracownicy naukowo – dydaktyczni realizują zajęcia z zakresu zainteresowań naukowych oraz nabywają wiedzę praktyczną poprzez staże w przedsiębiorstwach oraz wykorzystywanie nowoczesnych baz danych do prowadzenia zajęć. | E13: Okresowo (raz w roku akademickim) weryfikowane są wyniki anonimowych ankiet studenckich, w których oceniane są zarówno zajęcia, jak i wykładowcy. Studenci mogą również zgłaszać uwagi dotyczące działalności Wydziału oraz zajęć poprzez „OKNO JAKOŚCI” dostępne na stronie Wydziału Ekonomicznego. Zgłaszane uwagi mają charakter anonimowy i są rozpatrywane na bieżąco. W związku z koniecznością dostosowania programów studiów w zakresie zajęć z języków obcych na całej Uczelni (wytyczne Biura Doskonałości Dydaktycznej oraz Prorektora ds. dydaktyki) od roku akademickiego 2023/2024, na Wydziale Ekonomicznym zostały wprowadzone niezbędne zmiany. Dostosowanie programów studiów w zakresie liczby semestrów, godzin zajęć i ECTS z języków na poszczególnych poziomach i formach studiów. Wprowadzenie do planów okresowych studiów stacjonarnych i niestacjonarnych pierwszego stopnia dodatkowego obiektu pn. „Potwierdzenie B2 język obcy” - jako przedmiot obowiązkowy w semestrze, w którym realizowany jest ostatni semestr lektoratu i przyporządkowanie mu 1 ECTS. EKONOMIA (I STOPIEŃ, FORMA STACJONARNA) Statystyka – zmiana liczby punktów ECTS z 4 na 5. EKONOMIA (I STOPIEŃ, FORMA NIESTACJONARNA) Statystyka – zmiana liczby punktów ECTS z 4 na 5; przeniesienie realizacji przedmiotu Rynki finansowe z semestru 5 na 4. EKONOMIA (II STOPIEŃ, FORMA STACJONARNA I NIESTACJONARNA) Przedmiot w języku obcym – zmiana liczby punktów ECTS z 2 na 3 | F13: x
A14: 1.2 | B14: Efekty uczenia się są zgodne z koncepcją i celami kształcenia oraz dyscypliną lub dyscyplinami, do których jest przyporządkowany kierunek, opisują, w sposób trafny, specyficzny, realistyczny i pozwalający na stworzenie systemu weryfikacji, wiedzę, umiejętności i kompetencje społeczne osiągane przez studentów, a także odpowiadają właściwemu poziomowi Polskiej Ramy Kwalifikacji oraz profilowi ogólnoakademickiemu. | D14: Efekty kształcenia są trafne, dostosowane do specyfiki kierunku, możliwe do osiągnięcia oraz umożliwiają weryfikację wiedzy, umiejętności oraz kompetencji społecznych. Koordynatorzy przedmiotów ocenili, że w większości przedmiotów zrealizowano zakładane efekty uczenia się. Wśród postulowanych zmian metod nauczania wskazano na konieczność położenia większego nacisku na angażowanie studentów w bardziej czynną realizację zajęć zdalnych. | E14: Na zakończenie każdego semestru sporządzane są tzw. WEU – formularze weryfikujące założone w sylabusach efekty uczenia się. Na podstawie formularzy dokonuje się aktualizacji sylabusów oraz efektów uczenia się jeżeli jest taka potrzeba. Poprzez WEU nauczyciele akademiccy sygnalizują (bądź nie) potrzebę zmian w efektach uczenia się lub treści wykładowych i ćwiczeniowych. Koordynator ds. Jakości Kształcenia na podstawie ankiet WEU sporządza raport z weryfikacji efektów uczenia się. Naniesione zmiany miały charakter jedynie ujednolicenia formy w systemie Sylabus. Taka analiza efektów została przeprowadzona wraz ze wdrażaniem programu Sylabus na SGGW w 2023 r. | F14: x
A15: 1.2a | B15: Efekty uczenia się w przypadku kierunków studiów przygotowujących do wykonywania zawodów regulowanych, zawierają pełny zakres ogólnych i szczegółowych efektów uczenia się zawartych w standardach kształcenia określonych w rozporządzeniach wykonawczych. | D15: Nie dotyczy | E15: Nie dotyczy
A16: 1.2b | B16: Efekty uczenia się w przypadku kierunków studiów kończących się uzyskaniem tytułu zawodowego inżyniera lub magistra inżyniera zawierają pełny zakres efektów, umożliwiających uzyskanie kompetencji inżynierskich, zawartych w charakterystykach drugiego stopnia określonych w przepisach o Zintegrowanym Systemie Kwalifikacji. | D16: Nie dotyczy | E16: Nie dotyczy
D17: =_xlfn.CONCAT("DOBRE PRAKTYKI dla ",B12) -> DOBRE PRAKTYKI dla Kryterium 1. Konstrukcja programu studiów: koncepcja, cele kształcenia i efekty uczenia się
D18: Wielopoziomowa ocena koncepcji i celów kształcenia (opinia studentów, interesariuszy z otoczenia społeczno-gospodarczego, ocena szans zatrudnienia absolwentów dokonywanej poprzez ocenę potrzeb rynku pracy i śledzenia karier absolwentów, analiza możliwości kontynuacji kształcenia).
B19: Kryterium 2. Realizacja programu studiów: treści programowe, harmonogram realizacji programu studiów oraz formy i organizacja zajęć, metody kształcenia, praktyki zawodowe, organizacja procesu nauczania i uczenia się
A20: 2.1 | B20: Treści programowe są zgodne z efektami uczenia się oraz uwzględniają w szczególności aktualny stan wiedzy i metodyki badań w dyscyplinie lub dyscyplinach, do których jest przyporządkowany kierunek, jak również wyniki działalności naukowej uczelni w tej dyscyplinie lub dyscyplinach; oraz są kompleksowe i specyficzne dla zajęć tworzących program studiów i zapewniają uzyskanie wszystkich efektów uczenia się | C20: Raporty | D20: Na podstawie analizy formularzy WEU (weryfikacji efektów uczenia się) oraz wniosków z przeglądu sylabusów stwierdzono zgodność treści programowych poszczególnych przedmiotów z kierunkowymi i przedmiotowymi efektami uczenia się, aktualnym stanem wiedzy i metodyką badań w dyscyplinie, do której kierunek jest przyporządkowany. Sformułowano wniosek, że treści programowe zapewniają uzyskanie przyjętych efektów uczenia się i nie wymagają zmian. | E20: Treści programów studiów, jak również wszystkie sylabusy przedmiotów realizowanych na tym kierunku podlegały pełnej weryfikacji przez wykładowców, Dziekanów oraz Koordynatora ds. Jakości Kształcenia przy wdrażaniu programu sylabus. Koordynatorzy uaktualnili treści, bibliografie – formy zaliczenia. Zidentyfikowano konieczność doskonalenia treści programowych poprzez analizę przedmiotów do wyboru tak aby oferta dydaktyczna na dany semestr była dla studentów jak najbardziej atrakcyjna – dostosowana do aktualnych trendów na rynku pracy. | G20: x
A21: 2.1a | B21: Treści programowe w przypadku kierunków studiów przygotowujących do wykonywania zawodów regulowanych obejmują pełny zakres treści programowych zawartych w standardach kształcenia określonych w rozporządzeniach wykonawczych. | D21: Nie dotyczy | E21: Nie dotyczy
A22: 2.2 | B22: Harmonogram realizacji programu studiów oraz formy i organizacja zajęć, a także liczba semestrów, liczba godzin zajęć prowadzonych z bezpośrednim udziałem nauczycieli akademickich lub innych osób prowadzących zajęcia i szacowany nakład pracy studentów mierzony liczbą punktów ECTS, umożliwiają studentom osiągnięcie wszystkich efektów uczenia się. | C22: Raporty | D22: Harmonogram zajęć dydaktycznych umożliwia Studentom osiągnięcie zamierzonych efektów uczenia się. Ponadto Studenci studiów stacjonarnych jak i niestacjonarnych zgłaszali chęć dodania większej ilości zajęć zdalnych w organizacji zajęć. | E22: Na podstawie opinii studentów część przedmiotów wykładowych oraz przedmiotów z puli przedmiotów do wyboru będą realizowane w formie zdalnej dla programów studiów od 2023/2024. Pozwoli to na lepszą organizację zajęć dzięki mniejszemu obłożeniu sal dydaktycznych. | G22: x
A23: 2.2a | B23: Harmonogram realizacji programu studiów oraz formy i organizacja zajęć, a także liczba semestrów, liczba godzin zajęć prowadzonych z bezpośrednim udziałem nauczycieli akademickich lub innych osób prowadzących zajęcia i szacowany nakład pracy studentów mierzony liczbą punktów ECTS w przypadku kierunków studiów przygotowujących do wykonywania zawodów regulowanych są zgodne z regułami i wymaganiami zawartymi w standardach kształcenia określonych w rozporządzeniach wykonawczych. | D23: Nie dotyczy | E23: Nie dotyczy
A24: 2.3 | B24: Metody kształcenia są zorientowane na studentów, motywują ich do aktywnego udziału w procesie nauczania i uczenia się oraz umożliwiają studentom osiągnięcie efektów uczenia się, w tym w szczególności umożliwiają przygotowanie do prowadzenia działalności naukowej lub udział w tej działalności. | C24: Raporty | D24: Na podstawie wniosków z monitoringu systemu jakości kształcenia stwierdzono, że metody kształcenia są zorientowane na Studenta i dobierane są poprzez wykorzystanie różnorodnych form i metod kształcenia. Metody kształcenia motywują Studentów do zaangażowania w proces uczenia się oraz umożliwiają im osiąganie efektów uczenia się, a także umożliwiają przygotowanie Studenta do prowadzenia działalności naukowej, bądź udziale w tej działalności. | E24: Większość przedmiotów obowiązkowych odbywa się w wymiarze 15 h wykładów oraz 30 h ćwiczeń, natomiast przedmioty „do wyboru” 20 h wykładów i 10 h ćwiczeń, co umożliwia zdobywanie przez Studenta zarówno wiedzy praktycznej, jak i teoretycznej. Studenci korzystają z platformy Ms Teams oraz moodle z dodatkowymi aplikacjami. Ponadto, Studenci korzystają z baz danych udostępnianych przez bibliotekę SGGW oraz mają dostęp do oprogramowania STATISTICA, SPSS IMAGO oraz innych umożliwiających przeprowadzenie badań (webowa wersja Microsoft). Ponadto, Studenci mają dostęp do międzynarodowych baz danych artykułów naukowych oraz książek dydaktycznych, co umożliwia im zapoznanie się z wynikami prac badawczych w ujęciu międzynarodowym. Zajęcia dydaktyczne prowadzone są przez profesorów wizytujących z międzynarodowych ośrodków badawczych, którzy przedstawiają swoje wyniki badań oraz a studenci zapoznają się z metodami kształcenia wykorzystywanych na innych uczelniach. | F24: x
A25: 2.4 | B25: Jeśli w programie studiów uwzględnione są praktyki zawodowe, ich program, organizacja i nadzór nad realizacją, dobór miejsc odbywania oraz środowisko, w którym mają miejsce, w tym infrastruktura, a także kompetencje opiekunów zapewniają prawidłową realizację praktyk oraz osiągnięcie przez studentów efektów uczenia się, w szczególności tych, które są związane z nabywaniem kompetencji badawczych. | C25: Raporty | D25: Na podstawie wniosków z monitoringu systemu jakości kształcenia ustalono, że organizacja, nadzór, realizacja, infrastruktura oraz kompetencje koordynatorów praktyk zapewniają osiąganie przez Studentów efektów uczenia się. Praktykami zajmuje się Opiekun praktyk na Wydziale wraz z wyznaczonymi osobami. Praktyki na kierunku Ekonomia odbywają się zgodnie z dyscypliną ekonomia i finanse, głównie w podmiotach usługowo-handlowych oraz biurach rachunkowo-podatkowych. Wydział Ekonomiczny współpracuje z wieloma podmiotami gospodarczymi, w których studenci kierunki Ekonomia odbywają praktyki zawodowe. | E25: Studenci na początku semestru tj. najczęściej w lutym spotykają się z Koordynatorem ds. Praktyk w celu poznania merytorycznych i formalnych zasad odbywania praktyki zawodowej zapisanych w Regulaminie studenckich praktyk zawodowych. Ponadto informowani są o potencjalnych miejscach, w których możliwe jest odbycie praktyki oraz dobrych praktykach związanych z jej realizacją. Koordynator ds. Praktyk, przez cały semestr pełni dyżur raz w tygodniu. Informacje dotyczące praktyk są dodatkowo umieszczane na grupie Ms Teams. | F25: x
A26: 2.4a | B26: Program praktyk zawodowych, organizacja i nadzór nad ich realizacją, dobór miejsc odbywania oraz środowisko, w którym mają miejsce, w tym infrastruktura, a także kompetencje opiekunów, w przypadku kierunków studiów przygotowujących do wykonywania zawodów regulowanych są zgodne z regułami i wymaganiami zawartymi w standardach kształcenia określonych w rozporządzeniach wykonawczych. | D26: Nie dotyczy | E26: Nie dotyczy
